BEGIN:VCALENDAR
VERSION:2.0
METHOD:PUBLISH
PRODID:-//Microsoft Corporation//Outlook 11.0 MIMEDIR//EN
BEGIN:VEVENT
UID:ae743d7a-701e-48aa-a6cc-ac1bf8dc2c08
DTSTAMP:20260421T095545Z
DTSTART:20211109T140000Z
DTEND:20211109T150000Z
SUMMARY:Croner-i Tax Webinar
LOCATION:Go To Webinar
DESCRIPTION:
END:VEVENT
END:VCALENDAR
